Index of /checkResults/3.19/data-annotation-LATEST/EuPathDB/raw-results/nebbiolo1
Name
Last modified
Size
Description
Parent Directory
-
buildsrc-out.txt
03-Jul-2024 21:30
1.3K
buildsrc-summary.dcf
03-Jul-2024 21:30
334
install-out.txt
03-Jul-2024 21:30
955
install-summary.dcf
03-Jul-2024 21:30
260