Name | Last modified | Size | Description | |
---|---|---|---|---|
Parent Directory | - | |||
install-summary.dcf | 24-Jul-2024 21:30 | 293 | ||
install-out.txt | 24-Jul-2024 21:30 | 945 | ||
checksrc-summary.dcf | 24-Jul-2024 21:30 | 481 | ||
checksrc-out.txt | 24-Jul-2024 21:30 | 2.7K | ||
buildsrc-summary.dcf | 24-Jul-2024 21:30 | 468 | ||
buildsrc-out.txt | 24-Jul-2024 21:30 | 874 | ||