Books build report for BioC 3.19

This page was generated on 2024-07-22 14:00 -0400 (Mon, 22 Jul 2024).

Approx. Package Snapshot Date/Time (git pull): 2024-07-22 06:45 -0400 (Mon, 22 Jul 2024)
See this page for all the Bioconductor builds and their schedule.

HostnameOSArch (*)R versionInstalled pkgs
nebbiolo1Linux (Ubuntu 22.04.3 LTS)x86_644.4.1 (2024-06-14) -- "Race for Your Life" 4747
Click on any hostname to see more info about the system (e.g. compilers)      (*) as reported by 'uname -p', except on Windows and Mac OS X

Package status is indicated by one of the following glyphs
  TIMEOUT  
INSTALL, BUILD or CHECK of package took more than 40, 300 or 5 minutes, respectively
  ERROR  
Bad DESCRIPTION file, or INSTALL or BUILD of package failed, or CHECK produced errors
  WARNINGS  
CHECK of package produced warnings
  OK  
INSTALL, BUILD or CHECK of package went OK
  NA  
INSTALL, BUILD or CHECK result is not available because of an anomaly in the Build System
skipped
CHECK of package was skipped because the BUILD step failed
Click on any glyph in the report below to access the detailed report.
Package propagation status is indicated by one of the following LEDs
YES YES: Package was propagated because it didn't previously exist or version was bumped
NO NO: Package was not propagated because of a problem (impossible dependencies, or version lower than what is already propagated)
UNNEEDED UNNEEDED: Package was not propagated because it is already in the repository with this version. A version bump is required in order to propagate it

A crossed-out package name indicates the package is deprecated


QUICK STATSOS / ArchINSTALLBUILDCHECK
nebbiolo1Linux (Ubuntu 22.04.3 LTS) / x86_64
0010
019
0009
PackageMaintainerINSTALLBUILDCHECK
1/10BiocBookDemo 1.2.0  (landing page)Jacques Serizay  OK    ERROR  skipped
2/10csawBook 1.12.0  (landing page)Aaron Lun  OK    OK    OK  UNNEEDED, same version is already published
3/10OHCA 1.0.0  (landing page)Jacques Serizay  OK    OK    OK  UNNEEDED, same version is already published
4/10OSCA 1.14.0  (landing page)Alan O'Callaghan  OK    OK    OK  UNNEEDED, same version is already published
5/10OSCA.advanced 1.12.2  (landing page)Ludwig Geistlinger  OK    OK    OK  UNNEEDED, same version is already published
6/10OSCA.basic 1.12.2  (landing page)Peter Hickey  OK    OK    OK  UNNEEDED, same version is already published
7/10OSCA.intro 1.12.0  (landing page)Ludwig Geistlinger  OK    OK    OK  UNNEEDED, same version is already published
8/10OSCA.multisample 1.12.0  (landing page)Alan O'Callaghan  OK    OK    OK  UNNEEDED, same version is already published
9/10OSCA.workflows 1.12.0  (landing page)Peter Hickey  OK    OK    OK  UNNEEDED, same version is already published
10/10SingleRBook 1.14.0  (landing page)Aaron Lun  OK    OK    OK  UNNEEDED, same version is already published