Back to Mac ARM64 build report for BioC 3.19 |
|
This page was generated on 2024-05-07 11:32:17 -0400 (Tue, 07 May 2024).
Hostname | OS | Arch (*) | R version | Installed pkgs |
---|---|---|---|---|
kjohnson3 | macOS 13.6.5 Ventura | arm64 | 4.4.0 (2024-04-24) -- "Puppy Cup" | 4461 |
Click on any hostname to see more info about the system (e.g. compilers) (*) as reported by 'uname -p', except on Windows and Mac OS X |
To the developers/maintainers of the AnnotationFilter package: - Use the following Renviron settings to reproduce errors and warnings. - If 'R CMD check' started to fail recently on the Linux builder(s) over a missing dependency, add the missing dependency to 'Suggests:' in your DESCRIPTION file. See Renviron.bioc for more information. |
Package 71/2300 | Hostname | OS / Arch | INSTALL | BUILD | CHECK | BUILD BIN | ||||||||
AnnotationFilter 1.28.0 (landing page) Bioconductor Package Maintainer
| kjohnson3 | macOS 13.6.5 Ventura / arm64 | OK | OK | OK | OK | ||||||||
QUICK STATS | OS / Arch | INSTALL | BUILD | CHECK | BUILD BIN | |||||||||||||||||
kjohnson3 | macOS 13.6.5 Ventura / arm64 |
|
|
|
| |||||||||||||||||
Package 1/14 | Hostname | OS / Arch | INSTALL | BUILD | CHECK | BUILD BIN | ||||||||||||||||
biovizBase 1.52.0 (landing page) Michael Lawrence
| kjohnson3 | macOS 13.6.5 Ventura / arm64 | OK | OK | WARNINGS | OK | ||||||||||||||||
Package 2/14 | Hostname | OS / Arch | INSTALL | BUILD | CHECK | BUILD BIN | ||||||||||||||||
BUSpaRse 1.18.0 (landing page) Lambda Moses
| kjohnson3 | macOS 13.6.5 Ventura / arm64 | OK | ERROR | skipped | skipped | ||||||||||||||||
Package 3/14 | Hostname | OS / Arch | INSTALL | BUILD | CHECK | BUILD BIN | ||||||||||||||||
chimeraviz 1.30.0 (landing page) Stian Lågstad
| kjohnson3 | macOS 13.6.5 Ventura / arm64 | OK | OK | OK | OK | ||||||||||||||||
Package 4/14 | Hostname | OS / Arch | INSTALL | BUILD | CHECK | BUILD BIN | ||||||||||||||||
CompoundDb 1.8.0 (landing page) Johannes Rainer
| kjohnson3 | macOS 13.6.5 Ventura / arm64 | OK | OK | OK | OK | ||||||||||||||||
Package 5/14 | Hostname | OS / Arch | INSTALL | BUILD | CHECK | BUILD BIN | ||||||||||||||||
drugTargetInteractions 1.12.0 (landing page) Thomas Girke
| kjohnson3 | macOS 13.6.5 Ventura / arm64 | OK | OK | OK | OK | ||||||||||||||||
Package 6/14 | Hostname | OS / Arch | INSTALL | BUILD | CHECK | BUILD BIN | ||||||||||||||||
ensembldb 2.28.0 (landing page) Johannes Rainer
| kjohnson3 | macOS 13.6.5 Ventura / arm64 | OK | OK | OK | OK | ||||||||||||||||
Package 7/14 | Hostname | OS / Arch | INSTALL | BUILD | CHECK | BUILD BIN | ||||||||||||||||
ggbio 1.52.0 (landing page) Michael Lawrence
| kjohnson3 | macOS 13.6.5 Ventura / arm64 | OK | OK | WARNINGS | OK | ||||||||||||||||
Package 8/14 | Hostname | OS / Arch | INSTALL | BUILD | CHECK | BUILD BIN | ||||||||||||||||
Organism.dplyr 1.32.0 (landing page) Martin Morgan
| kjohnson3 | macOS 13.6.5 Ventura / arm64 | OK | OK | OK | OK | ||||||||||||||||
Package 9/14 | Hostname | OS / Arch | INSTALL | BUILD | CHECK | BUILD BIN | ||||||||||||||||
Martin Rydén
| kjohnson3 | macOS 13.6.5 Ventura / arm64 | OK | OK | OK | OK | ||||||||||||||||
Package 10/14 | Hostname | OS / Arch | INSTALL | BUILD | CHECK | BUILD BIN | ||||||||||||||||
QFeatures 1.14.0 (landing page) Laurent Gatto
| kjohnson3 | macOS 13.6.5 Ventura / arm64 | OK | OK | OK | OK | ||||||||||||||||
Package 11/14 | Hostname | OS / Arch | INSTALL | BUILD | CHECK | BUILD BIN | ||||||||||||||||
RAIDS 1.2.0 (landing page) Pascal Belleau
| kjohnson3 | macOS 13.6.5 Ventura / arm64 | OK | OK | OK | OK | ||||||||||||||||
Package 12/14 | Hostname | OS / Arch | INSTALL | BUILD | CHECK | BUILD BIN | ||||||||||||||||
RITAN 1.28.0 (landing page) Michael Zimmermann
| kjohnson3 | macOS 13.6.5 Ventura / arm64 | OK | OK | WARNINGS | OK | ||||||||||||||||
Package 13/14 | Hostname | OS / Arch | INSTALL | BUILD | CHECK | BUILD BIN | ||||||||||||||||
scanMiRApp 1.10.0 (landing page) Pierre-Luc Germain
| kjohnson3 | macOS 13.6.5 Ventura / arm64 | OK | OK | OK | OK | ||||||||||||||||
Package 14/14 | Hostname | OS / Arch | INSTALL | BUILD | CHECK | BUILD BIN | ||||||||||||||||
TVTB 1.30.0 (landing page) Kevin Rue-Albrecht
| kjohnson3 | macOS 13.6.5 Ventura / arm64 | OK | OK | WARNINGS | OK | ||||||||||||||||