Index of /checkResults/3.19/bioc-longtests-LATEST/xcms/raw-results
Name
Last modified
Size
Description
Parent Directory
-
info.dcf
09-Jun-2024 12:55
268
lconway/
09-Jun-2024 12:55
-
merida1/
03-Mar-2024 13:55
-
nebbiolo1/
09-Jun-2024 12:55
-
palomino3/
09-Jun-2024 12:55
-