Index of /checkResults/3.19/bioc-longtests-LATEST/extraChIPs/raw-results/merida1
Name
Last modified
Size
Description
Parent Directory
-
checksrc-out.txt
21-Jul-2024 12:55
3.8K
checksrc-summary.dcf
21-Jul-2024 12:55
446