Index of /checkResults/3.19/bioc-longtests-LATEST/beachmat/raw-results/nebbiolo1
Name
Last modified
Size
Description
Parent Directory
-
checksrc-summary.dcf
21-Jul-2024 12:55
437
checksrc-out.txt
21-Jul-2024 12:55
4.5K
buildsrc-summary.dcf
19-Nov-2023 11:30
452
buildsrc-out.txt
19-Nov-2023 11:30
786