Index of /checkResults/3.19/bioc-longtests-LATEST/HDF5Array/raw-results/palomino3
Name
Last modified
Size
Description
Parent Directory
-
checksrc-out.txt
23-Jun-2024 12:55
5.1K
checksrc-summary.dcf
23-Jun-2024 12:55
468