Index of /checkResults/3.19/bioc-longtests-LATEST/HDF5Array/raw-results/nebbiolo1
Name
Last modified
Size
Description
Parent Directory
-
buildsrc-out.txt
19-Nov-2023 11:30
790
buildsrc-summary.dcf
19-Nov-2023 11:30
455
checksrc-out.txt
21-Jul-2024 12:55
1.9K
checksrc-summary.dcf
21-Jul-2024 12:55
438