Index of /checkResults/3.19/bioc-longtests-LATEST/HDF5Array/raw-results
Name
Last modified
Size
Description
Parent Directory
-
info.dcf
21-Jul-2024 12:55
282
palomino7/
21-Jul-2024 12:55
-
palomino3/
23-Jun-2024 12:55
-
nebbiolo1/
21-Jul-2024 12:55
-
merida1/
21-Jul-2024 12:55
-
lconway/
09-Jun-2024 12:55
-