Index of /checkResults/3.19/bioc-longtests-LATEST/EpiMix/raw-results/nebbiolo1
Name
Last modified
Size
Description
Parent Directory
-
buildsrc-out.txt
19-Nov-2023 11:30
762
buildsrc-summary.dcf
19-Nov-2023 11:30
443
checksrc-out.txt
21-Jul-2024 12:55
4.0K
checksrc-summary.dcf
21-Jul-2024 12:55
424