Index of /checkResults/3.19/bioc-LATEST/velociraptor/raw-results/palomino7
Name
Last modified
Size
Description
Parent Directory
-
install-summary.dcf
03-Jul-2024 23:21
278
buildsrc-summary.dcf
03-Jul-2024 23:21
384
install-out.txt
03-Jul-2024 23:21
856
buildsrc-out.txt
03-Jul-2024 23:21
17K