Index of /checkResults/3.19/bioc-LATEST/velociraptor/raw-results/kunpeng2
Name
Last modified
Size
Description
Parent Directory
-
buildsrc-out.txt
10-May-2024 00:41
4.4K
install-out.txt
10-May-2024 00:41
869
buildsrc-summary.dcf
10-May-2024 00:41
355
install-summary.dcf
10-May-2024 00:41
280