Index of /checkResults/3.19/bioc-LATEST/velociraptor/raw-results/kjohnson3
Name
Last modified
Size
Description
Parent Directory
-
install-out.txt
12-Jun-2024 03:44
881
install-summary.dcf
12-Jun-2024 03:44
279
buildsrc-out.txt
12-Jun-2024 03:44
4.5K
buildsrc-summary.dcf
12-Jun-2024 03:44
354