Index of /checkResults/3.19/bioc-LATEST/txdbmaker/raw-results
Name
Last modified
Size
Description
Parent Directory
-
info.dcf
08-Jun-2024 09:23
277
kjohnson3/
08-Jun-2024 09:29
-
kunpeng2/
10-May-2024 00:41
-
lconway/
08-Jun-2024 09:27
-
nebbiolo1/
08-Jun-2024 09:25
-
palomino3/
08-Jun-2024 09:26
-