Name | Last modified | Size | Description | |
---|---|---|---|---|
Parent Directory | - | |||
install-summary.dcf | 03-Jul-2024 23:21 | 268 | ||
checksrc-summary.dcf | 03-Jul-2024 23:21 | 447 | ||
buildsrc-summary.dcf | 03-Jul-2024 23:21 | 453 | ||
buildbin-summary.dcf | 03-Jul-2024 23:21 | 514 | ||
buildsrc-out.txt | 03-Jul-2024 23:21 | 931 | ||
install-out.txt | 03-Jul-2024 23:21 | 2.6K | ||
buildbin-out.txt | 03-Jul-2024 23:21 | 2.7K | ||
checksrc-out.txt | 03-Jul-2024 23:21 | 4.4K | ||