Name | Last modified | Size | Description | |
---|---|---|---|---|
Parent Directory | - | |||
buildbin-out.txt | 12-Jun-2024 03:44 | 3.7K | ||
buildbin-summary.dcf | 12-Jun-2024 03:44 | 506 | ||
buildsrc-out.txt | 12-Jun-2024 03:44 | 830 | ||
buildsrc-summary.dcf | 12-Jun-2024 03:44 | 415 | ||
checksrc-out.txt | 12-Jun-2024 03:44 | 3.5K | ||
checksrc-summary.dcf | 12-Jun-2024 03:44 | 428 | ||
install-out.txt | 12-Jun-2024 03:44 | 1.9K | ||
install-summary.dcf | 12-Jun-2024 03:44 | 261 | ||