Name | Last modified | Size | Description | |
---|---|---|---|---|
Parent Directory | - | |||
install-summary.dcf | 03-Jul-2024 23:20 | 272 | ||
install-out.txt | 03-Jul-2024 23:20 | 835 | ||
checksrc-summary.dcf | 03-Jul-2024 23:20 | 455 | ||
checksrc-out.txt | 03-Jul-2024 23:20 | 3.7K | ||
buildsrc-summary.dcf | 03-Jul-2024 23:20 | 460 | ||
buildsrc-out.txt | 03-Jul-2024 23:20 | 1.0K | ||
buildbin-summary.dcf | 03-Jul-2024 23:20 | 526 | ||
buildbin-out.txt | 03-Jul-2024 23:20 | 1.0K | ||