Name | Last modified | Size | Description | |
---|---|---|---|---|
Parent Directory | - | |||
checksrc-summary.dcf | 27-Jul-2024 06:38 | 418 | ||
checksrc-out.txt | 27-Jul-2024 06:38 | 5.2K | ||
buildsrc-summary.dcf | 27-Jul-2024 06:38 | 420 | ||
buildsrc-out.txt | 27-Jul-2024 06:38 | 903 | ||
install-summary.dcf | 27-Jul-2024 06:38 | 261 | ||
install-out.txt | 27-Jul-2024 06:38 | 3.2K | ||