Name | Last modified | Size | Description | |
---|---|---|---|---|
Parent Directory | - | |||
install-out.txt | 24-Jul-2024 22:06 | 3.6K | ||
install-summary.dcf | 24-Jul-2024 22:06 | 271 | ||
buildsrc-out.txt | 24-Jul-2024 22:06 | 913 | ||
buildsrc-summary.dcf | 24-Jul-2024 22:06 | 431 | ||
checksrc-out.txt | 24-Jul-2024 22:06 | 5.4K | ||
checksrc-summary.dcf | 24-Jul-2024 22:06 | 449 | ||
buildbin-out.txt | 24-Jul-2024 22:06 | 5.6K | ||
buildbin-summary.dcf | 24-Jul-2024 22:06 | 536 | ||