Name | Last modified | Size | Description | |
---|---|---|---|---|
Parent Directory | - | |||
buildbin-out.txt | 12-Jun-2024 03:44 | 5.6K | ||
checksrc-out.txt | 12-Jun-2024 03:44 | 5.3K | ||
install-out.txt | 12-Jun-2024 03:44 | 3.6K | ||
buildsrc-out.txt | 12-Jun-2024 03:44 | 913 | ||
buildbin-summary.dcf | 12-Jun-2024 03:44 | 536 | ||
checksrc-summary.dcf | 12-Jun-2024 03:44 | 448 | ||
buildsrc-summary.dcf | 12-Jun-2024 03:44 | 430 | ||
install-summary.dcf | 12-Jun-2024 03:44 | 271 | ||