Name | Last modified | Size | Description | |
---|---|---|---|---|
Parent Directory | - | |||
buildbin-out.txt | 24-Jul-2024 22:05 | 1.1K | ||
buildbin-summary.dcf | 24-Jul-2024 22:05 | 546 | ||
buildsrc-out.txt | 24-Jul-2024 22:05 | 924 | ||
buildsrc-summary.dcf | 24-Jul-2024 22:05 | 473 | ||
checksrc-out.txt | 24-Jul-2024 22:05 | 6.2K | ||
checksrc-summary.dcf | 24-Jul-2024 22:05 | 505 | ||
install-out.txt | 24-Jul-2024 22:05 | 1.0K | ||
install-summary.dcf | 24-Jul-2024 22:05 | 279 | ||