Name | Last modified | Size | Description | |
---|---|---|---|---|
Parent Directory | - | |||
install-summary.dcf | 03-Jul-2024 23:22 | 270 | ||
install-out.txt | 03-Jul-2024 23:22 | 49K | ||
checksrc-summary.dcf | 03-Jul-2024 23:22 | 444 | ||
checksrc-out.txt | 03-Jul-2024 23:22 | 4.1K | ||
buildsrc-summary.dcf | 03-Jul-2024 23:22 | 427 | ||
buildsrc-out.txt | 03-Jul-2024 23:22 | 846 | ||
buildbin-summary.dcf | 03-Jul-2024 23:22 | 531 | ||
buildbin-out.txt | 03-Jul-2024 23:22 | 53K | ||