Name | Last modified | Size | Description | |
---|---|---|---|---|
Parent Directory | - | |||
buildbin-summary.dcf | 12-Jun-2024 03:44 | 531 | ||
buildbin-out.txt | 12-Jun-2024 03:44 | 52K | ||
checksrc-out.txt | 12-Jun-2024 03:44 | 4.0K | ||
checksrc-summary.dcf | 12-Jun-2024 03:44 | 444 | ||
buildsrc-summary.dcf | 12-Jun-2024 03:44 | 427 | ||
buildsrc-out.txt | 12-Jun-2024 03:44 | 846 | ||
install-summary.dcf | 12-Jun-2024 03:44 | 269 | ||
install-out.txt | 12-Jun-2024 03:44 | 49K | ||