Name | Last modified | Size | Description | |
---|---|---|---|---|
Parent Directory | - | |||
buildbin-summary.dcf | 12-Jun-2024 03:44 | 517 | ||
buildbin-out.txt | 12-Jun-2024 03:44 | 46K | ||
checksrc-summary.dcf | 12-Jun-2024 03:44 | 443 | ||
checksrc-out.txt | 12-Jun-2024 03:44 | 4.3K | ||
buildsrc-out.txt | 12-Jun-2024 03:44 | 838 | ||
buildsrc-summary.dcf | 12-Jun-2024 03:44 | 422 | ||
install-summary.dcf | 12-Jun-2024 03:44 | 265 | ||
install-out.txt | 12-Jun-2024 03:44 | 43K | ||