Name | Last modified | Size | Description | |
---|---|---|---|---|
Parent Directory | - | |||
install-summary.dcf | 03-Jul-2024 23:23 | 265 | ||
install-out.txt | 03-Jul-2024 23:23 | 43K | ||
checksrc-summary.dcf | 03-Jul-2024 23:23 | 442 | ||
checksrc-out.txt | 03-Jul-2024 23:23 | 4.2K | ||
buildsrc-summary.dcf | 03-Jul-2024 23:23 | 422 | ||
buildsrc-out.txt | 03-Jul-2024 23:23 | 838 | ||
buildbin-summary.dcf | 03-Jul-2024 23:23 | 516 | ||
buildbin-out.txt | 03-Jul-2024 23:23 | 46K | ||