Name | Last modified | Size | Description | |
---|---|---|---|---|
Parent Directory | - | |||
buildbin-out.txt | 29-Jun-2024 06:42 | 2.6K | ||
buildbin-summary.dcf | 29-Jun-2024 06:42 | 523 | ||
buildsrc-out.txt | 29-Jun-2024 06:42 | 880 | ||
buildsrc-summary.dcf | 29-Jun-2024 06:42 | 458 | ||
checksrc-out.txt | 29-Jun-2024 06:42 | 7.2K | ||
checksrc-summary.dcf | 29-Jun-2024 06:42 | 459 | ||
install-out.txt | 29-Jun-2024 06:42 | 2.5K | ||
install-summary.dcf | 29-Jun-2024 06:42 | 271 | ||