Name | Last modified | Size | Description | |
---|---|---|---|---|
Parent Directory | - | |||
install-summary.dcf | 12-Jun-2024 03:44 | 272 | ||
install-out.txt | 12-Jun-2024 03:44 | 2.7K | ||
buildsrc-out.txt | 12-Jun-2024 03:44 | 853 | ||
buildsrc-summary.dcf | 12-Jun-2024 03:44 | 431 | ||
checksrc-out.txt | 12-Jun-2024 03:44 | 6.7K | ||
checksrc-summary.dcf | 12-Jun-2024 03:44 | 456 | ||
buildbin-out.txt | 12-Jun-2024 03:44 | 4.8K | ||
buildbin-summary.dcf | 12-Jun-2024 03:44 | 539 | ||