Name | Last modified | Size | Description | |
---|---|---|---|---|
Parent Directory | - | |||
checksrc-summary.dcf | 03-Jul-2024 23:23 | 460 | ||
checksrc-out.txt | 03-Jul-2024 23:23 | 3.8K | ||
buildbin-out.txt | 03-Jul-2024 23:23 | 1.2K | ||
buildbin-summary.dcf | 03-Jul-2024 23:23 | 554 | ||
install-out.txt | 24-Jul-2024 22:08 | 1.0K | ||
install-summary.dcf | 24-Jul-2024 22:08 | 277 | ||
buildsrc-out.txt | 24-Jul-2024 22:08 | 2.2K | ||
buildsrc-summary.dcf | 24-Jul-2024 22:08 | 352 | ||