Name | Last modified | Size | Description | |
---|---|---|---|---|
Parent Directory | - | |||
buildbin-summary.dcf | 24-Jul-2024 22:06 | 516 | ||
buildbin-out.txt | 24-Jul-2024 22:06 | 1.1K | ||
checksrc-summary.dcf | 24-Jul-2024 22:06 | 437 | ||
checksrc-out.txt | 24-Jul-2024 22:06 | 3.4K | ||
buildsrc-summary.dcf | 24-Jul-2024 22:06 | 422 | ||
buildsrc-out.txt | 24-Jul-2024 22:06 | 871 | ||
install-out.txt | 24-Jul-2024 22:06 | 1.0K | ||
install-summary.dcf | 24-Jul-2024 22:06 | 265 | ||