Name | Last modified | Size | Description | |
---|---|---|---|---|
Parent Directory | - | |||
buildbin-out.txt | 03-Jul-2024 23:23 | 1.2K | ||
buildbin-summary.dcf | 03-Jul-2024 23:23 | 572 | ||
buildsrc-out.txt | 03-Jul-2024 23:23 | 4.8K | ||
buildsrc-summary.dcf | 03-Jul-2024 23:23 | 448 | ||
checksrc-out.txt | 03-Jul-2024 23:23 | 13K | ||
checksrc-summary.dcf | 03-Jul-2024 23:23 | 478 | ||
install-out.txt | 03-Jul-2024 23:23 | 1.0K | ||
install-summary.dcf | 03-Jul-2024 23:23 | 283 | ||