Name | Last modified | Size | Description | |
---|---|---|---|---|
Parent Directory | - | |||
install-out.txt | 24-Jul-2024 22:05 | 9.9K | ||
install-summary.dcf | 24-Jul-2024 22:05 | 265 | ||
buildsrc-summary.dcf | 24-Jul-2024 22:05 | 443 | ||
buildsrc-out.txt | 24-Jul-2024 22:05 | 1.0K | ||
checksrc-out.txt | 24-Jul-2024 22:05 | 4.8K | ||
checksrc-summary.dcf | 24-Jul-2024 22:05 | 445 | ||
buildbin-out.txt | 24-Jul-2024 22:05 | 10K | ||
buildbin-summary.dcf | 24-Jul-2024 22:05 | 503 | ||