Name | Last modified | Size | Description | |
---|---|---|---|---|
Parent Directory | - | |||
install-summary.dcf | 24-Jul-2024 22:03 | 255 | ||
install-out.txt | 24-Jul-2024 22:03 | 7.4K | ||
checksrc-summary.dcf | 24-Jul-2024 22:03 | 412 | ||
checksrc-out.txt | 24-Jul-2024 22:03 | 4.6K | ||
buildsrc-summary.dcf | 24-Jul-2024 22:03 | 412 | ||
buildsrc-out.txt | 24-Jul-2024 22:03 | 876 | ||