Name | Last modified | Size | Description | |
---|---|---|---|---|
Parent Directory | - | |||
buildbin-out.txt | 27-Jul-2024 06:41 | 12K | ||
buildbin-summary.dcf | 27-Jul-2024 06:41 | 519 | ||
buildsrc-out.txt | 27-Jul-2024 06:41 | 886 | ||
buildsrc-summary.dcf | 27-Jul-2024 06:41 | 422 | ||
checksrc-out.txt | 27-Jul-2024 06:41 | 4.8K | ||
checksrc-summary.dcf | 27-Jul-2024 06:41 | 442 | ||
install-out.txt | 27-Jul-2024 06:41 | 9.8K | ||
install-summary.dcf | 27-Jul-2024 06:41 | 265 | ||