Name | Last modified | Size | Description | |
---|---|---|---|---|
Parent Directory | - | |||
install-summary.dcf | 12-Jun-2024 03:42 | 265 | ||
install-out.txt | 12-Jun-2024 03:42 | 9.8K | ||
buildsrc-out.txt | 12-Jun-2024 03:42 | 886 | ||
buildsrc-summary.dcf | 12-Jun-2024 03:42 | 421 | ||
checksrc-summary.dcf | 12-Jun-2024 03:42 | 441 | ||
checksrc-out.txt | 12-Jun-2024 03:42 | 4.8K | ||
buildbin-summary.dcf | 12-Jun-2024 03:42 | 518 | ||
buildbin-out.txt | 12-Jun-2024 03:42 | 12K | ||