Name | Last modified | Size | Description | |
---|---|---|---|---|
Parent Directory | - | |||
install-out.txt | 10-May-2024 00:41 | 8.0K | ||
install-summary.dcf | 10-May-2024 00:41 | 266 | ||
buildsrc-summary.dcf | 10-May-2024 00:41 | 423 | ||
buildsrc-out.txt | 10-May-2024 00:41 | 887 | ||
checksrc-out.txt | 10-May-2024 00:41 | 4.7K | ||
checksrc-summary.dcf | 10-May-2024 00:41 | 448 | ||