Name | Last modified | Size | Description | |
---|---|---|---|---|
Parent Directory | - | |||
buildbin-out.txt | 12-Jun-2024 03:44 | 12K | ||
install-out.txt | 12-Jun-2024 03:44 | 9.7K | ||
checksrc-out.txt | 12-Jun-2024 03:44 | 4.8K | ||
buildsrc-out.txt | 12-Jun-2024 03:44 | 886 | ||
buildbin-summary.dcf | 12-Jun-2024 03:44 | 518 | ||
checksrc-summary.dcf | 12-Jun-2024 03:44 | 441 | ||
buildsrc-summary.dcf | 12-Jun-2024 03:44 | 422 | ||
install-summary.dcf | 12-Jun-2024 03:44 | 265 | ||