Name | Last modified | Size | Description | |
---|---|---|---|---|
Parent Directory | - | |||
buildsrc-out.txt | 03-Jul-2024 23:19 | 890 | ||
buildsrc-summary.dcf | 03-Jul-2024 23:19 | 451 | ||
checksrc-out.txt | 03-Jul-2024 23:19 | 3.9K | ||
checksrc-summary.dcf | 03-Jul-2024 23:19 | 458 | ||
install-out.txt | 03-Jul-2024 23:19 | 1.0K | ||
install-summary.dcf | 03-Jul-2024 23:19 | 280 | ||