Name | Last modified | Size | Description | |
---|---|---|---|---|
Parent Directory | - | |||
install-summary.dcf | 24-Jul-2024 22:07 | 271 | ||
install-out.txt | 24-Jul-2024 22:07 | 1.2K | ||
checksrc-summary.dcf | 24-Jul-2024 22:07 | 448 | ||
checksrc-out.txt | 24-Jul-2024 22:07 | 4.5K | ||
buildsrc-summary.dcf | 24-Jul-2024 22:07 | 430 | ||
buildsrc-out.txt | 24-Jul-2024 22:07 | 820 | ||
buildbin-summary.dcf | 24-Jul-2024 22:07 | 536 | ||
buildbin-out.txt | 24-Jul-2024 22:07 | 1.3K | ||