Index of /checkResults/3.19/bioc-LATEST/musicatk/raw-results/kjohnson1
Name
Last modified
Size
Description
Parent Directory
-
install-out.txt
03-Jul-2024 23:23
704
install-summary.dcf
03-Jul-2024 23:23
273
buildsrc-out.txt
03-Jul-2024 23:23
903
buildsrc-summary.dcf
03-Jul-2024 23:23
344