Index of /checkResults/3.19/bioc-LATEST/muscat/raw-results/kjohnson1
Name
Last modified
Size
Description
Parent Directory
-
buildsrc-out.txt
03-Jul-2024 23:23
1.2K
buildsrc-summary.dcf
03-Jul-2024 23:23
342
install-summary.dcf
03-Jul-2024 23:23
267
install-out.txt
03-Jul-2024 23:23
1.8K