Name | Last modified | Size | Description | |
---|---|---|---|---|
Parent Directory | - | |||
buildbin-out.txt | 24-Jul-2024 22:04 | 1.1K | ||
buildbin-summary.dcf | 24-Jul-2024 22:04 | 521 | ||
buildsrc-out.txt | 24-Jul-2024 22:04 | 881 | ||
buildsrc-summary.dcf | 24-Jul-2024 22:04 | 457 | ||
checksrc-out.txt | 24-Jul-2024 22:04 | 8.7K | ||
checksrc-summary.dcf | 24-Jul-2024 22:04 | 452 | ||
install-out.txt | 24-Jul-2024 22:04 | 965 | ||
install-summary.dcf | 24-Jul-2024 22:04 | 270 | ||