Name | Last modified | Size | Description | |
---|---|---|---|---|
Parent Directory | - | |||
buildbin-out.txt | 26-Jun-2024 06:40 | 1.1K | ||
buildbin-summary.dcf | 26-Jun-2024 06:40 | 522 | ||
buildsrc-out.txt | 29-Jun-2024 06:41 | 679 | ||
buildsrc-summary.dcf | 29-Jun-2024 06:41 | 378 | ||
checksrc-out.txt | 26-Jun-2024 06:40 | 8.6K | ||
checksrc-summary.dcf | 26-Jun-2024 06:40 | 452 | ||
install-out.txt | 29-Jun-2024 06:41 | 965 | ||
install-summary.dcf | 29-Jun-2024 06:41 | 270 | ||