Name | Last modified | Size | Description | |
---|---|---|---|---|
Parent Directory | - | |||
install-summary.dcf | 10-May-2024 00:41 | 272 | ||
install-out.txt | 10-May-2024 00:41 | 1.0K | ||
checksrc-summary.dcf | 10-May-2024 00:41 | 459 | ||
checksrc-out.txt | 10-May-2024 00:41 | 8.6K | ||
buildsrc-summary.dcf | 10-May-2024 00:41 | 432 | ||
buildsrc-out.txt | 10-May-2024 00:41 | 861 | ||