Name | Last modified | Size | Description | |
---|---|---|---|---|
Parent Directory | - | |||
buildbin-out.txt | 24-Jul-2024 22:06 | 1.4K | ||
buildbin-summary.dcf | 24-Jul-2024 22:06 | 555 | ||
buildsrc-out.txt | 24-Jul-2024 22:06 | 895 | ||
buildsrc-summary.dcf | 24-Jul-2024 22:06 | 441 | ||
checksrc-out.txt | 24-Jul-2024 22:06 | 5.1K | ||
checksrc-summary.dcf | 24-Jul-2024 22:06 | 467 | ||
install-out.txt | 24-Jul-2024 22:06 | 1.2K | ||
install-summary.dcf | 24-Jul-2024 22:06 | 278 | ||