Name | Last modified | Size | Description | |
---|---|---|---|---|
Parent Directory | - | |||
buildbin-summary.dcf | 12-Jun-2024 03:44 | 535 | ||
buildbin-out.txt | 12-Jun-2024 03:44 | 1.2K | ||
checksrc-summary.dcf | 12-Jun-2024 03:44 | 448 | ||
checksrc-out.txt | 12-Jun-2024 03:44 | 12K | ||
buildsrc-summary.dcf | 12-Jun-2024 03:44 | 431 | ||
buildsrc-out.txt | 12-Jun-2024 03:44 | 860 | ||
install-out.txt | 12-Jun-2024 03:44 | 1.0K | ||
install-summary.dcf | 12-Jun-2024 03:44 | 271 | ||