Index of /checkResults/3.19/bioc-LATEST/methodical/raw-results/palomino3
Name
Last modified
Size
Description
Parent Directory
-
buildsrc-out.txt
29-Jun-2024 06:41
2.1K
buildsrc-summary.dcf
29-Jun-2024 06:41
377
install-out.txt
29-Jun-2024 06:41
1.0K
install-summary.dcf
29-Jun-2024 06:41
273