Name | Last modified | Size | Description | |
---|---|---|---|---|
Parent Directory | - | |||
install-summary.dcf | 29-Jun-2024 06:41 | 268 | ||
buildsrc-summary.dcf | 29-Jun-2024 06:41 | 453 | ||
checksrc-summary.dcf | 29-Jun-2024 06:41 | 453 | ||
buildbin-summary.dcf | 29-Jun-2024 06:41 | 515 | ||
buildsrc-out.txt | 29-Jun-2024 06:41 | 931 | ||
checksrc-out.txt | 29-Jun-2024 06:41 | 7.8K | ||
install-out.txt | 29-Jun-2024 06:41 | 12K | ||
buildbin-out.txt | 29-Jun-2024 06:41 | 12K | ||