Name | Last modified | Size | Description | |
---|---|---|---|---|
Parent Directory | - | |||
buildbin-out.txt | 28-May-2024 00:35 | 5.6K | ||
checksrc-out.txt | 28-May-2024 00:35 | 4.0K | ||
install-out.txt | 12-Jun-2024 03:42 | 3.6K | ||
buildsrc-out.txt | 12-Jun-2024 03:42 | 1.5K | ||
buildbin-summary.dcf | 28-May-2024 00:35 | 528 | ||
checksrc-summary.dcf | 28-May-2024 00:35 | 444 | ||
buildsrc-summary.dcf | 12-Jun-2024 03:42 | 343 | ||
install-summary.dcf | 12-Jun-2024 03:42 | 269 | ||