Index of /checkResults/3.19/bioc-LATEST/messina/raw-results/kjohnson3
Name
Last modified
Size
Description
Parent Directory
-
install-summary.dcf
12-Jun-2024 03:43
269
install-out.txt
12-Jun-2024 03:43
3.5K
buildsrc-summary.dcf
12-Jun-2024 03:43
344
buildsrc-out.txt
12-Jun-2024 03:43
1.5K